BEGIN:VCALENDAR
VERSION:2.0
PRODID:-//PG Cares - ECPv6.6.4.2//NONSGML v1.0//EN
CALSCALE:GREGORIAN
METHOD:PUBLISH
X-WR-CALNAME:PG Cares
X-ORIGINAL-URL:https://pgcaresutah.org
X-WR-CALDESC:Events for PG Cares
REFRESH-INTERVAL;VALUE=DURATION:PT1H
X-Robots-Tag:noindex
X-PUBLISHED-TTL:PT1H
BEGIN:VTIMEZONE
TZID:America/Denver
BEGIN:DAYLIGHT
TZOFFSETFROM:-0700
TZOFFSETTO:-0600
TZNAME:MDT
DTSTART:20260308T090000
END:DAYLIGHT
BEGIN:STANDARD
TZOFFSETFROM:-0600
TZOFFSETTO:-0700
TZNAME:MST
DTSTART:20261101T080000
END:STANDARD
END:VTIMEZONE
BEGIN:VEVENT
DTSTART;VALUE=DATE:20260401
DTEND;VALUE=DATE:20260427
DTSTAMP:20260421T035448
CREATED:20260331T191652Z
LAST-MODIFIED:20260331T191652Z
UID:733-1775001600-1777247999@pgcaresutah.org
SUMMARY:Strawberry Days T-Shirt Design Contest
DESCRIPTION:Be a part of PG’s beloved Strawberry Day’s celebration by designing an exclusive PG Cares Strawberry Day’s t-shirt! Submissions must be received by April 26\, 2026. We will award One Grand Prize winner\, One Social Media favorite and 1st and 2nd  place in these categories: Creativity\, Theme Relevance\, and Originality \nPrizes \n\nGrand Prize: $100 gift basket\, plus featured design on official PG Cares Strawberry Days merchandise and 4 free shirts\nCreativity\, Theme Relevance\, & Originality —–1st Place: $75 gift basket prize\, 2nd Place: $50 gift basket prize\nSocial media most-voted: Prize- $50 gift Basket\n\nFor information about contest requirements and submission\, click here!
URL:https://pgcaresutah.org/event/strawberry-days-t-shirt-design-contest-2/
ATTACH;FMTTYPE=image/png:https://pgcaresutah.org/wp-content/uploads/2026/03/C2026-Strawberry-Days-T-Shirt-Contest-Flyer-.pdf.png
END:VEVENT
BEGIN:VEVENT
DTSTART;VALUE=DATE:20260401
DTEND;VALUE=DATE:20260501
DTSTAMP:20260421T035448
CREATED:20260401T070006Z
LAST-MODIFIED:20260331T193455Z
UID:740-1775001600-1777593599@pgcaresutah.org
SUMMARY:April Newsletter
DESCRIPTION:Subscribe HERE to receive our monthly newsletter in your inbox! \nView the April Newsletter HERE.
URL:https://pgcaresutah.org/event/april-newsletter/
ATTACH;FMTTYPE=image/png:https://pgcaresutah.org/wp-content/uploads/2025/11/Newsletter.png
END:VEVENT
BEGIN:VEVENT
DTSTART;TZID=America/Denver:20260421T123000
DTEND;TZID=America/Denver:20260421T140000
DTSTAMP:20260421T035448
CREATED:20260331T191026Z
LAST-MODIFIED:20260331T191026Z
UID:731-1776774600-1776780000@pgcaresutah.org
SUMMARY:Table Talk: Top 5 Ways You Can Reduce the Risk
DESCRIPTION:Simple\, Everyday Actions That Help Protect and Empower Your Child \n\n\n\n\nFree Event— \nKeeping your kids safe can feel overwhelming—but you don’t have to navigate it alone. This class offers a supportive\, practical introduction to the top five things that make a real difference in reducing the risk of sexual abuse and how to start using them right away. \nParticipants will learn how to: \n\nAssess and recognize potentially risky situations\nSet\, respect\, and reinforce healthy boundaries\nKeep communication open and ongoing with kids\nTalk about sexual development in age-appropriate ways\nModel and build emotional well-being and resilience\n\nYou’ll leave with tools you can use in everyday conversations and interactions to help empower and protect your child. \nEvent Details\n📅 Date: April 21\n🕒 Time: 12:30–2:00 PM\n📍 Location: Pleasant Grove Library\n🥪 Lunch: Provided \nThis class is ideal for parents\, caregivers\, and anyone who plays a role in a child’s life. We hope you’ll join us for this informative and encouraging session. \n\n\n\nLimited seats\, RSVP today to save yours. See you there!
URL:https://pgcaresutah.org/event/table-talk-top-5-ways-you-can-reduce-the-risk/
LOCATION:Pleasant Grove Library: Upstairs Activity Room\, 30 E. Center St.\, Pleasant Grove\, UT\, 84062\, United States
ATTACH;FMTTYPE=image/jpeg:https://pgcaresutah.org/wp-content/uploads/2026/03/April-Reduce-the-Risk.jpg
END:VEVENT
END:VCALENDAR